Workbook

Sheet Доходы
C2: Приложение 1
C3: к решению Совета депутатов Кученяевского сельского поселения "О бюджете Кученяевского сельского поселения на 2026 год и на плановый период 2027 и 2028 годов "
C4: от декабря 2025 года №
A6: Объем поступлений доходов бюджета по основным источникам
D7: (тыс.рублей)
A8: Код бюджетной классификации доходов бюджета | B8: Наименование доходов | D8: 2026 | E8: 2027 | G8: 2028
A10: 000 8 50 00000 00 0000 000 | B10: Доходы бюджета-Итого | D10: 1981.4 | E10: 1788.7 | G10: 1861.7
A11: 000 8 50 00000 00 0000 000 | B11: Итого доходов | D11: 1981.4 | E11: 1788.7 | G11: 1861.7
A12: 000 1 00 00000 00 0000 000 | B12: Д О Х О Д Ы | D12: 1001.4 | E12: 1011.8 | G12: 1030.4
A13: 000 1 01 00000 00 0000 000 | B13: НАЛОГИ НА ПРИБЫЛЬ, ДОХОДЫ | D13: 20 | E13: 15.9 | G13: 17
A14: 000 1 01 02000 01 0000 110 | B14: Налог на доходы физических лиц | D14: 20 | E14: 15.9 | G14: 17
A15: 000 1 01 02020 01 0000 110 | B15: - налог на доходы физических лиц c доходов, облагаемых по налоговой ставке, установленной пунктом 1 статьи 224 Налогового кодекса Российской Федерации | D15: 20 | E15: 15.9 | G15: 17
A16: 000 1 01 02021 01 0000 110 | B16: - налог на доходы физических лиц c доходов, облагаемых по налоговой ставке, установленной пунктом 1 статьи 224 Налогового кодекса Российской Федерации, за исключением доходов, полученных физическими лицами, зарегистрированными в качестве индивидуальных предпринимателей
A17: 000 1 01 02022 01 0000 110 | B17: - налог на доходы физических лиц c доходов, облагаемых по налоговой ставке, установленной пунктом 1 статьи 224 Налогового кодекса Российской Федерации и полученных физическими лицами, зарегистрированными в качестве индивидуальных предпринимателей, частных
A18: 000 1 05 00000 00 0000 000 | B18: НАЛОГИ НА СОВОКУПНЫЙ ДОХОД | D18: 121.5 | E18: 125.6 | G18: 130.1
A19: 000 1 05 03010 10 0000 110 | B19: Единый сельскохозяйственный налог | D19: 121.5 | E19: 125.6 | G19: 130.1
A20: 000 1 06 00000 00 0000 000 | B20: НАЛОГ НА ИМУЩЕСТВО | D20: 859.9 | E20: 870.3
A21: 000 1 06 01000 00 0000 110 | B21: Налог на имущество физических лиц | D21: 46.5 | E21: 48.8 | G21: 51.3
A22: 000 1 06 01030 00 0000 110 | B22: Налог на имущество физических лиц, взимаемый по ставке, применяемый к объектам налогообложения, расположенным в границах поселения | D22: 46.5 | E22: 48.8 | G22: 51.3
A23: 000 1 06 06000 00 0000 110 | B23: Земельный налог | D23: 813.4 | E23: 821.5 | G23: 832
A24: 000 1 11 00000 00 0000 000 | B24: ДОХОДЫ ОТ ИСПОЛЬЗОВАНИЯ ИМУЩЕСТВА, НАХОДЯЩЕГОСЯ В ГОСУДАРСТВЕННОЙ И МУНИЦИПАЛЬНОЙ СОБСТВЕННОСТИ | D24: 21.2 | E24: 22 | G24: 22.9
B25: Доходы, получаемые в виде арендной платы , а также средства от продажи права на заключение договоров аренды на земли, находящиеся в собственности сельских поселений (за исключением земельных участков муниципальных бюджетных и автономных учреждений) | D25: 21.2 | E25: 22

Sheet Приложение 1
C1: Приложение 1 к решению Совета депутатов Кученяевского сельского поселения Ардатовского муниципального района Республики Мордовия «О бюджете Кученяевского сельского поселения Ардатоского муниципального района Республики Мордовия на 2026 год и на плановый период 2027 и 2028 годов» от ___ 2025 г. №
A6: ОБЪЕМ БЕЗВОЗМЕЗДНЫХ ПОСТУПЛЕНИЙ В БЮДЖЕТ КУЧЕНЯЕВСКОГО СЕЛЬСКОГО ПОСЕЛЕНИЯ АРДАТОВСКОГО МУНИЦИПАЛЬНОГО РАЙОНА РЕСПУБЛИКИ МОРДОВИЯ НА 2026 ГОД И НА ПЛАНОВЫЙ ПЕРИОД 2027 И 2028 ГОДОВ
E7: (тыс. рублей)
A8: Код | B8: Наименование | C8: Сумма
C9: 2026год | D9: 2027 год | E9: 2028 год
A10: 1 | B10: 2 | C10: 3 | D10: 4 | E10: 5
A11: 2 00 00000 00 0000 000 | B11: БЕЗВОЗМЕЗДНЫЕ ПОСТУПЛЕНИЯ | C11: =SUM(C12) -> 2538.1 | D11: =SUM(D12) -> 1269.6 | E11: =SUM(E12) -> 1316.9
A12: 2 02 00000 00 0000 000 | B12: Безвозмездные поступления от других бюджетов бюджетной системы Российской Федерации | C12: =C13+C18+C19+C24 -> 2538.1 | D12: =D13+D18+D19+D24 -> 1269.6 | E12: =E13+E18+E19+E24 -> 1316.9
A13: 2 02 10000 00 0000 150 | B13: Дотации бюджетам бюджетной системы Российской Федерации | C13: =SUM(C14+C16) -> 1304.8 | D13: =SUM(D14+D16) -> 621.4 | E13: =SUM(E14+E16) -> 648.9
A14: 2 02 15001 00 0000 150 | B14: Дотации на выравнивание бюджетной обеспеченности | C14: 749.4 | D14: =D15 -> 621.4 | E14: =E15 -> 648.9
A15: 2 02 15001 10 0000 150 | B15: Дотации бюджетам сельских поселений на выравнивание бюджетной обеспеченности из бюджета субъекта Российской Федерации | C15: 749.4 | D15: 621.4 | E15: 648.9
A16: 2 02 15002 00 0000 150 | B16: Дотации бюджетам на поддержку мер по обеспечению сбалансированности бюджетов | C16: 555.4
A17: 2 02 15002 10 0000 150 | B17: Дотации бюджетам сельских поселений на поддержку мер по обеспечению сбалансированности бюджетов | C17: 555.4
A18: 2 02 29999 10 0000 150 | B18: Дотации бюджетам сельских поселений на поддержку мер по обеспечению сбалансированности бюджетов | C18: 555.4
A19: 2 02 30000 00 0000 150 | B19: Субвенции бюджетам бюджетной системы Российской Федерации | C19: =C20+C22 -> 159.8 | D19: 114.6 | E19: 118.9
A20: 2 02 30024 00 0000 150 | B20: Субвенции местным бюджетам на выполнение передаваемых полномочий субъектов Российской Федерации | C20: 0.8 | D20: 0.9 | E20: 0.9
A21: 2 02 30024 10 0000 150 | B21: Субвенции бюджетам сельских поселений на выполнение передаваемых полномочий субъектов Российской Федерации | C21: 0.8 | D21: 0.9 | E21: 0.9
A22: 2 02 35118 00 0000 150 | B22: Субвенции бюджетам на осуществление первичного воинского учета на территориях, где отсутствуют военные комиссариаты | C22: 159 | D22: 173.9 | E22: 180.2
A23: 2 02 35118 13 0000 150 | B23: Субвенции бюджетам сельских поселений на осуществление первичного воинского учета на территориях, где отсутствуют военные комиссариаты | C23: 159 | D23: 173.9 | E23: 180.2
A24: 2 02 40000 00 0000 150 | B24: Межбюджетные трансферты,передаваемые бюджетам поселений из бюджетов муниципальных районов | C24: =C25 -> 518.1 | D24: =D25 -> 533.6 | E24: =E25 -> 549.1
A25: 2 02 40014 00 0000 150 | B25: Межбюджетные трансферты,передаваемые бюджетам сельских поселений из бюджетов муниципальных районов | C25: 518.1 | D25: 533.6 | E25: 549.1 | F25: дорожный фонд
A26: 2 02 40014 10 0000 150 | B26: Межбюджетные трансферты,передаваемые бюджетам сельских поселений из бюджетов муниципальных районов на осуществление части полномочий по решению вопросов местного значения в соответствии с заключенными договорами | C26: 518.1 | D26: 533.6 | E26: 549.1

Sheet Приложение 2
I1: Приложение 2 к решению Совета депутатов Кученяевского сельского поселения Ардатовского муниципального района Республики Мордовия «О бюджете Кученяевского сельского поселения Ардатовского муниципального района Республики Мордовия на 2025 год и на плановый период 2026 и 2027 годов» от г. №
A2: ВЕДОМСТВЕННАЯ СТРУКТУРА РАСХОДОВ БЮДЖЕТА КУЧЕНЯЕВСКОГО СЕЛЬСКОГО ПОСЕЛЕНИЯ АРДАТОВСКОГО МУНИЦИПАЛЬНОГО РАЙОНА РЕСПУБЛИКИ МОРДОВИЯ НА 2026 ГОД И НА ПЛАНОВЫЙ ПЕРИОД 2027 И 2028 ГОДОВ
I3: (тыс. рублей)
A4: Наименование | B4: Адм | C4: Рз | D4: Прз | E4: Цср | I4: Вр | J4: Сумма
J5: 2026год | K5: 2027 год | L5: 2028 год
A6: 1 | B6: 2 | C6: 3 | D6: 4 | E6: 5 | F6: 6 | G6: 7 | H6: 8 | I6: 9 | J6: 10 | K6: 11 | L6: 12
A7: ВСЕГО | J7: =J8 -> 2506.55 | K7: =K8 -> 2718.3 | L7: =L8 -> 2954.5 | M7: на 2024 и 2025 год брала с 1 приложения сумма 465,1+1155,6(налоговые и неналоговые доходы)
A8: Администрация Кученяевского сельского поселения Ардатовского муниципального района | B8: 922 | J8: =J9+J36+J42+J58+J65+J80+J87+J51 -> 2506.55 | K8: =K9+K36+K42+K58+K65+K80+K87 -> 2718.3 | L8: =L9+L36+L42+L58+L65+L80+L87 -> 2954.5
A9: Общегосударственные вопросы | B9: 922 | C9: 01 | J9: =J10+J16 -> 1214.85 | K9: =K10+K16 -> 1389.4 | L9: =L10+L16 -> 1580.3
A10: Функционирование Правительства Российской Федерации, высших исполнительных органов государственной власти субъектов Российской Федерации, местных администраций | B10: 922 | C10: 01 | D10: 04 | J10: =J11+J24 -> 869.5 | K10: =K11+K24 -> 886.1 | L10: =L11+L24 -> 1147
A11: Муниципальная программа "Профилактика правонарушений на территории Кученяевского сельского поселения Ардатовского муниципального района республики Мордовия на 2020-2024гг." | B11: 922 | C11: 01 | D11: 04 | E11: 19 | F11: 0 | J11: 0.8 | K11: 0.9 | L11: 0.9
A12: Основное мероприятие «Обеспечение деятельности должностных лиц уполномоченных составлять протоколы об административных правонарушениях, предусмотренных Законом Республики Мордовия от 15 июня 2015 года № 38-З "Об административной ответственности на территории Республики Мордовия" | B12: 922 | C12: 01 | D12: 04 | E12: 19 | F12: 0 | G12: 03 | J12: 0.8 | K12: 0.9 | L12: 0.9
B13: 922 | C13: 01 | D13: 04 | E13: 19 | F13: 0 | G13: 03 | H13: 77150 | J13: 0.8 | K13: 0.9 | L13: 0.9
A14: Закупка товаров, работ и услуг для обеспечения государственных (муниципальных) нужд | B14: 922 | C14: 01 | D14: 04 | E14: 19 | F14: 0 | G14: 03 | H14: 77150 | I14: 200 | J14: 0.8 | K14: 0.9 | L14: 0.9
A15: Иные закупки товаров, работ и услуг для обеспечения государственных (муниципальных) нужд | B15: 922 | C15: 01 | D15: 04 | E15: 19 | F15: 0 | G15: 03 | H15: 77150 | I15: 240 | J15: 0.8 | K15: 0.9 | L15: 0.9
A16: Обеспечение деятельности Администрации Кученяевского сельского поселения Ардатовского муниципального района Республики Мордовия | B16: 922 | C16: 01 | D16: 02 | E16: 65 | J16: =J17+J21 -> 345.35 | K16: =K17+K21 -> 503.3 | L16: =L17+L21 -> 433.3
A17: Глава Кученяевского сельского поселения | B17: 922 | C17: 01 | D17: 02 | E17: 65 | F17: 1 | G17: 00 | J17: 252.95 | K17: 373.3 | L17: 303.3
A18: Расходы на выплаты по оплате труда Главы Кученяевского сельского поселения Ардатовского муниципального района Республики Мордовия | B18: 922 | C18: 01 | D18: 02 | E18: 65 | F18: 1 | G18: 00 | H18: 41150 | J18: 252.95 | K18: 373.3 | L18: 303.3
A19: Расходы на выплаты персоналу в целях обеспечения выполнения функций государственными (муниципальными) органами, казенными учреждениями, органами управления государственными внебюджетными фондами | B19: 922 | C19: 01 | D19: 02 | E19: 65 | F19: 1 | G19: 00 | H19: 41150 | I19: 100 | J19: 252.95 | K19: 373.3 | L19: 303.3
A20: Расходы на выплаты персоналу государственных (муниципальных) органов | B20: 922 | C20: 01 | D20: 02 | E20: 65 | F20: 1 | G20: 00 | H20: 41150 | I20: 120 | J20: 252.95 | K20: 373.3 | L20: 303.3
A21: Расходы на выплаты по оплате труда Главы Кученяевского сельского поселения Ардатовского муниципального района Республики Мордовия | B21: 922 | C21: 01 | D21: 02 | E21: 65 | F21: 1 | G21: 00 | H21: 44205 | J21: 92.4 | K21: 130 | L21: 130
A22: Расходы на выплаты персоналу в целях обеспечения выполнения функций государственными (муниципальными) органами, казенными учреждениями, органами управления государственными внебюджетными фондами | B22: 922 | C22: 01 | D22: 02 | E22: 65 | F22: 1 | G22: 00 | H22: 44205 | I22: 100 | J22: 92.4 | K22: 130 | L22: 130
A23: Расходы на выплаты персоналу государственных (муниципальных) органов | B23: 922 | C23: 01 | D23: 02 | E23: 65 | F23: 1 | G23: 00 | H23: 44205 | I23: 120 | J23: 92.4 | K23: 130 | L23: 130
A24: Деятельность администрации Кученяевского сельского поселения Ардатовского муниципального района Республики Мордовия | B24: 922 | C24: 01 | D24: 04 | E24: 65 | F24: 2 | G24: 00 | J24: =J25+J31+J34+J28 -> 868.7 | K24: =K25+K28+K31+K34 -> 885.2 | L24: =L25+L28+L31+L34 -> 1146.1
A25: Расходы на выплаты по оплате труда работников органов местного самоуправления | B25: 922 | C25: 01 | D25: 04 | E25: 65 | F25: 2 | G25: 00 | H25: 41110 | J25: 432.2 | K25: 459 | L25: 674.1
A26: Расходы на выплаты персоналу в целях обеспечения выполнения функций государственными (муниципальными) органами, казенными учреждениями, органами управления государственными внебюджетными фондами | B26: 922 | C26: 01 | D26: 04 | E26: 65 | F26: 2 | G26: 00 | H26: 41110 | I26: 100 | J26: 432.2 | K26: 459 | L26: 674.1
A27: Расходы на выплаты персоналу государственных (муниципальных) органов | B27: 922 | C27: 01 | D27: 04 | E27: 65 | F27: 2 | G27: 00 | H27: 41110 | I27: 120 | J27: 432.2 | K27: 459 | L27: 674.1
A28: Расходы на выплаты по оплате труда работников органов местного самоуправления | B28: 922 | C28: 01 | D28: 04 | E28: 65 | F28: 2 | G28: 00 | H28: 44205 | J28: 235.1 | K28: 209.9 | L28: 209.9
A29: Расходы на выплаты персоналу в целях обеспечения выполнения функций государственными (муниципальными) органами, казенными учреждениями, органами управления государственными внебюджетными фондами | B29: 922 | C29: 01 | D29: 04 | E29: 65 | F29: 2 | G29: 00 | H29: 44205 | I29: 100 | J29: 235.1 | K29: 209.9 | L29: 209.9
A30: Расходы на выплаты персоналу государственных (муниципальных) органов | B30: 922 | C30: 01 | D30: 04 | E30: 65 | F30: 2 | G30: 00 | H30: 44205 | I30: 120 | J30: 235.1 | K30: 209.9 | L30: 209.9
A31: Расходы на обеспечение функций органов местного самоуправления | B31: 922 | C31: 01 | D31: 04 | E31: 65 | F31: 2 | G31: 00 | H31: 41120 | J31: 195.4 | K31: 210.3 | L31: 256.1
A32: Закупка товаров, работ и услуг для обеспечения государственных (муниципальных) нужд | B32: 922 | C32: 01 | D32: 04 | E32: 65 | F32: 2 | G32: 00 | H32: 41120 | I32: 200 | J32: 195.4 | K32: 210.3 | L32: 256.1
A33: Иные закупки товаров, работ и услуг для обеспечения государственных (муниципальных) нужд | B33: 922 | C33: 01 | D33: 04 | E33: 65 | F33: 2 | G33: 00 | H33: 41120 | I33: 240 | J33: 195.4 | K33: 210.3 | L33: 256.1
A34: Иные бюджетные ассигнования | B34: 922 | C34: 01 | D34: 04 | E34: 65 | F34: 2 | G34: 00 | H34: 41120 | I34: 800 | J34: 6 | K34: 6 | L34: 6
A35: Уплата налогов, сборов и иных платежей | B35: 922 | C35: 01 | D35: 04 | E35: 65 | F35: 2 | G35: 00 | H35: 41120 | I35: 850 | J35: 6 | K35: 6 | L35: 6
A36: Резервные фонды | B36: 922 | C36: 01 | D36: 11 | J36: =SUM(J37) -> 0.1 | K36: =SUM(K37) -> 0.1 | L36: =SUM(L37) -> 0.1
A37: Непрограммные расходы главных распорядителей средств местного бюджет | B37: 922 | C37: 01 | D37: 11 | E37: 89 | J37: =SUM(J38) -> 0.1 | K37: =SUM(K38) -> 0.1 | L37: =SUM(L38) -> 0.1
A38: Непрограммные расходы в рамках обеспечения деятельности главных распорядителей средств местного бюджета | B38: 922 | C38: 01 | D38: 11 | E38: 89 | F38: 1 | G38: 00 | J38: =SUM(J39) -> 0.1 | K38: =SUM(K39) -> 0.1 | L38: =SUM(L39) -> 0.1
A39: Резервный фонд администрации Кученяевского сельского поселения Ардатовского муниципального района Республики Мордовия | B39: 922 | C39: 01 | D39: 11 | E39: 89 | F39: 1 | G39: 00 | H39: 41180 | J39: =SUM(J40) -> 0.1 | K39: =SUM(K40) -> 0.1 | L39: =SUM(L40) -> 0.1
A40: Иные бюджетные ассигнования | B40: 922 | C40: 01 | D40: 11 | E40: 89 | F40: 1 | G40: 00 | H40: 41180 | I40: 800 | J40: 0.1 | K40: =SUM(K41) -> 0.1 | L40: =SUM(L41) -> 0.1
...

Sheet Приложение 3
H1: Приложение 3 к решению Совета депутатов Кученяевского сельского поселения Ардатовского муниципального района Республики Мордовия «О бюджете Кученяевского сельского поселения Ардатовского муниципального района Республики Мордовия на 2026 год и на плановый период 2027 и 2028 годов» от г. №
A2: РАСПРЕДЕЛЕНИЕ БЮДЖЕТНЫХ АССИГНОВАНИЙ БЮДЖЕТА КУЧЕНЯЕВСКОГО СЕЛЬСКОГО ПОСЕЛЕНИЯ АРДАТОВСКОГО МУНИЦИПАЛЬНОГО РАЙОНА РЕСПУБЛИКИ МОРДОВИЯ ПО РАЗДЕЛАМ, ПОДРАЗДЕЛАМ, ЦЕЛЕВЫМ СТАТЬЯМ (МУНИЦИПАЛЬНЫМ ПРОГРАММАМ И НЕПРОГРАММНЫМ НАПРАВЛЕНИЯМ ДЕЯТЕЛЬНОСТИ), ГРУППАМ И ПОДГРУППАМ ВИДОВ РАСХОДОВ КЛАССИФИКАЦИИ РАСХОДОВ БЮДЖЕТОВ НА 2026ГОД И НА ПЛАНОВЫЙ ПЕРИОД 2027 И 2028 ГОДОВ
H3: (тыс. рублей)
A4: Наименование | B4: Рз | C4: Прз | D4: Цср | H4: Вр | I4: Сумма
I5: 2026год | J5: 2027 год | K5: 2028 год
A6: 1 | B6: 2 | C6: 3 | D6: 4 | E6: 5 | F6: 6 | G6: 7 | H6: 8 | I6: 9 | J6: 10 | K6: 11
A7: ВСЕГО | I7: =I8 -> 2506.55 | J7: =J8 -> 2718.3 | K7: =K8 -> 2954.5
A8: Общегосударственные вопросы | B8: 01 | I8: =I9+I16+I34+I40+I56+I63+I79+I86+I49 -> 2506.55 | J8: =J9+J16+J34+J40+J56+J63+J79+J86 -> 2718.3 | K8: =K9+K16+K34+K40+K56+K63+K79+K86 -> 2954.5
A9: Функционирование Правительства Российской Федерации, высших исполнительных органов государственной власти субъектов Российской Федерации, местных администраций | B9: 01 | C9: 04 | I9: =I10+I23 -> 869.5 | J9: =J10+J23 -> 886.1 | K9: =K10+K23 -> 1147
A10: Муниципальная программа "Профилактика правонарушений на территории Кученяевского сельского поселения Ардатовского муниципального района республики Мордовия на 2020-2024гг." | B10: 01 | C10: 04 | D10: 19 | E10: 0 | I10: =SUM(I11) -> 0.8 | J10: =SUM(J11) -> 0.9 | K10: =SUM(K11) -> 0.9
A11: Основное мероприятие «Обеспечение деятельности должностных лиц уполномоченных составлять протоколы об административных правонарушениях, предусмотренных Законом Республики Мордовия от 15 июня 2015 года № 38-З "Об административной ответственности на территории Республики Мордовия" | B11: 01 | C11: 04 | D11: 19 | E11: 0 | F11: 03 | I11: =SUM(I12) -> 0.8 | J11: =SUM(J12) -> 0.9 | K11: =SUM(K12) -> 0.9
A12: Осуществление государственных полномочий Республики Мордовия по определению перечня должностных лиц, уполномоченных составлять протоколы об административных правонарушениях, предусмотренных Законом Республики Мордовия от 15 июня 2015 года № 38-З "Об административной ответственности на территории Республики Мордовия" | B12: 01 | C12: 04 | D12: 19 | E12: 0 | F12: 03 | G12: 77150 | I12: =SUM(I13) -> 0.8 | J12: =SUM(J13) -> 0.9 | K12: =SUM(K13) -> 0.9
A13: Закупка товаров, работ и услуг для обеспечения государственных (муниципальных) нужд | B13: 01 | C13: 04 | D13: 19 | E13: 0 | F13: 03 | G13: 77150 | H13: 200 | I13: =SUM(I14) -> 0.8 | J13: =SUM(J14) -> 0.9 | K13: =SUM(K14) -> 0.9
A14: Иные закупки товаров, работ и услуг для обеспечения государственных (муниципальных) нужд | B14: 01 | C14: 04 | D14: 19 | E14: 0 | F14: 03 | G14: 77150 | H14: 240 | I14: =SUM('Приложение 2'!J15) -> 0.8 | J14: =SUM('Приложение 2'!K15) -> 0.9 | K14: =SUM('Приложение 2'!L15) -> 0.9
A15: Обеспечение деятельности Администрации Кученяевского сельскогоо поселения Ардатовского муниципального района Республики Мордовия | B15: 01 | C15: 04 | D15: 65 | I15: =I23 -> 868.7 | J15: =J23 -> 885.2 | K15: =K23 -> 1146.1
A16: Глава Кученяевского сельского поселения | B16: 01 | C16: 02 | D16: 65 | E16: 1 | F16: 00 | I16: =I17+I20 -> 345.35 | J16: =J17+J20 -> 503.3 | K16: =K17+K20 -> 433.3
A17: Расходы на выплаты по оплате труда Главы Кученяевского сельского поселения Ардатовского муниципального района Республики Мордовия | B17: 01 | C17: 02 | D17: 65 | E17: 1 | F17: 00 | G17: 41150 | I17: =SUM(I18) -> 252.95 | J17: =SUM(J18) -> 373.3 | K17: =SUM(K18) -> 303.3
A18: Расходы на выплаты персоналу в целях обеспечения выполнения функций государственными (муниципальными) органами, казенными учреждениями, органами управления государственными внебюджетными фондами | B18: 01 | C18: 02 | D18: 65 | E18: 1 | F18: 00 | G18: 41150 | H18: 100 | I18: =SUM(I19) -> 252.95 | J18: =SUM(J19) -> 373.3 | K18: =SUM(K19) -> 303.3
A19: Расходы на выплаты персоналу государственных (муниципальных) органов | B19: 01 | C19: 02 | D19: 65 | E19: 1 | F19: 00 | G19: 41150 | H19: 120 | I19: =SUM('Приложение 2'!J20) -> 252.95 | J19: =SUM('Приложение 2'!K20) -> 373.3 | K19: =SUM('Приложение 2'!L20) -> 303.3
A20: Расходы на выплаты по оплате труда Главы Кученяевского сельского поселения Ардатовского муниципального района Республики Мордовия | B20: 01 | C20: 02 | D20: 65 | E20: 1 | F20: 00 | G20: 44205 | I20: =I21 -> 92.4 | J20: =SUM(J21) -> 130 | K20: =SUM(K21) -> 130
A21: Расходы на выплаты персоналу в целях обеспечения выполнения функций государственными (муниципальными) органами, казенными учреждениями, органами управления государственными внебюджетными фондами | B21: 01 | C21: 02 | D21: 65 | E21: 1 | F21: 00 | G21: 44205 | H21: 100 | I21: =I22 -> 92.4 | J21: =SUM(J22) -> 130 | K21: =SUM(K22) -> 130
A22: Расходы на выплаты персоналу государственных (муниципальных) органов | B22: 01 | C22: 02 | D22: 65 | E22: 1 | F22: 00 | G22: 44205 | H22: 120 | I22: ='Приложение 2'!J21 -> 92.4 | J22: =SUM('Приложение 2'!K23) -> 130 | K22: =SUM('Приложение 2'!L23) -> 130
A23: Деятельность администрации Кученяевского сельского поселения Ардатовского муниципального района Республики Мордовия | B23: 01 | C23: 04 | D23: 65 | E23: 2 | F23: 00 | I23: =I24+I30+I32+I27 -> 868.7 | J23: =J24+J27+J30+J32 -> 885.2 | K23: =K24+K27+K30+K32 -> 1146.1
A24: Расходы на выплаты по оплате труда работников органов местного самоуправления | B24: 01 | C24: 04 | D24: 65 | E24: 2 | F24: 00 | G24: 41110 | I24: =SUM(I25) -> 432.2 | J24: =SUM(J25) -> 459 | K24: =SUM(K25) -> 674.1
A25: Расходы на выплаты персоналу в целях обеспечения выполнения функций государственными (муниципальными) органами, казенными учреждениями, органами управления государственными внебюджетными фондами | B25: 01 | C25: 04 | D25: 65 | E25: 2 | F25: 00 | G25: 41110 | H25: 100 | I25: =SUM(I26) -> 432.2 | J25: =SUM(J26) -> 459 | K25: =SUM(K26) -> 674.1
A26: Расходы на выплаты персоналу государственных (муниципальных) органов | B26: 01 | C26: 04 | D26: 65 | E26: 2 | F26: 00 | G26: 41110 | H26: 120 | I26: =SUM('Приложение 2'!J27) -> 432.2 | J26: =SUM('Приложение 2'!K27) -> 459 | K26: =SUM('Приложение 2'!L27) -> 674.1
A27: Расходы на выплаты по оплате труда работников органов местного самоуправления | B27: 01 | C27: 04 | D27: 65 | E27: 2 | F27: 00 | G27: 44205 | I27: =SUM(I28) -> 235.1 | J27: =SUM(J28) -> 209.9 | K27: =SUM(K28) -> 209.9
A28: Расходы на выплаты персоналу в целях обеспечения выполнения функций государственными (муниципальными) органами, казенными учреждениями, органами управления государственными внебюджетными фондами | B28: 01 | C28: 04 | D28: 65 | E28: 2 | F28: 00 | G28: 44205 | H28: 100 | I28: =SUM(I29) -> 235.1 | J28: =SUM(J29) -> 209.9 | K28: =SUM(K29) -> 209.9
A29: Расходы на выплаты персоналу государственных (муниципальных) органов | B29: 01 | C29: 04 | D29: 65 | E29: 2 | F29: 00 | G29: 44205 | H29: 120 | I29: =SUM('Приложение 2'!J30) -> 235.1 | J29: =SUM('Приложение 2'!K30) -> 209.9 | K29: =SUM('Приложение 2'!L30) -> 209.9
A30: Закупка товаров, работ и услуг для обеспечения государственных (муниципальных) нужд | B30: 01 | C30: 04 | D30: 65 | E30: 2 | F30: 00 | G30: 41120 | H30: 200 | I30: =SUM(I31) -> 195.4 | J30: =SUM(J31) -> 210.3 | K30: =SUM(K31) -> 256.1
A31: Иные закупки товаров, работ и услуг для обеспечения государственных (муниципальных) нужд | B31: 01 | C31: 04 | D31: 65 | E31: 2 | F31: 00 | G31: 41120 | H31: 240 | I31: =SUM('Приложение 2'!J33) -> 195.4 | J31: 210.3 | K31: 256.1
A32: Иные бюджетные ассигнования | B32: 01 | C32: 04 | D32: 65 | E32: 2 | F32: 00 | G32: 41120 | H32: 800 | I32: =SUM(I33) -> 6 | J32: =SUM(J33) -> 6 | K32: =SUM(K33) -> 6
A33: Уплата налогов, сборов и иных платежей | B33: 01 | C33: 04 | D33: 65 | E33: 2 | F33: 00 | G33: 41120 | H33: 850 | I33: =SUM('Приложение 2'!J35) -> 6 | J33: =SUM('Приложение 2'!K35) -> 6 | K33: =SUM('Приложение 2'!L35) -> 6
A34: Резервные фонды | B34: 01 | C34: 11 | I34: =SUM(I35) -> 0.1 | J34: =SUM(J35) -> 0.1 | K34: =SUM(K35) -> 0.1
A35: Непрограммные расходы главных распорядителей средств местного бюджет | B35: 01 | C35: 11 | D35: 89 | I35: =SUM(I36) -> 0.1 | J35: =SUM(J36) -> 0.1 | K35: =SUM(K36) -> 0.1
A36: Непрограммные расходы в рамках обеспечения деятельности главных распорядителей средств местного бюджета | B36: 01 | C36: 11 | D36: 89 | E36: 1 | F36: 00 | I36: =SUM(I37) -> 0.1 | J36: =SUM(J37) -> 0.1 | K36: =SUM(K37) -> 0.1
A37: Резервный фонд администрации Кученяевского сельского поселения Ардатовского муниципального района Республики Мордовия | B37: 01 | C37: 11 | D37: 89 | E37: 1 | F37: 00 | G37: 41180 | I37: =SUM(I38) -> 0.1 | J37: =SUM(J38) -> 0.1 | K37: =SUM(K38) -> 0.1
A38: Иные бюджетные ассигнования | B38: 01 | C38: 11 | D38: 89 | E38: 1 | F38: 00 | G38: 41180 | H38: 800 | I38: =SUM(I39) -> 0.1 | J38: =SUM(J39) -> 0.1 | K38: =SUM(K39) -> 0.1
A39: Резервные средства | B39: 01 | C39: 11 | D39: 89 | E39: 1 | F39: 00 | G39: 41180 | H39: 870 | I39: =SUM('Приложение 2'!J41) -> 0.1 | J39: =SUM('Приложение 2'!K41) -> 0.1 | K39: =SUM('Приложение 2'!L41) -> 0.1
A40: Национальная оборона | B40: 02 | I40: =SUM(I41) -> 151.8 | J40: =SUM(J41) -> 159.8 | K40: =SUM(K41) -> 175.3
...

Sheet Приложение 4
I1: Приложение 4 к решению Совета депутатов Кученяевского сельского поселения Ардатовского муниципального района Республики Мордовия «О бюджете Кученяевского сельского поселения Ардатовского муниципального района Республики Мордовия на 2026 год и на плановый период 2027 и 2028годов» от г. №
A2: РАСПРЕДЕЛЕНИЕ БЮДЖЕТНЫХ АССИГНОВАНИЙ БЮДЖЕТА КУЧЕНЯЕВСКОГО СЕЛЬСКОГО ПОСЕЛЕНИЯ АРДАТОВСКОГО МУНИЦИПАЛЬНОГО РАЙОНА РЕСПУБЛИКИ МОРДОВИЯ ПО ЦЕЛЕВЫМ СТАТЬЯМ (МУНИЦИПАЛЬНЫМ ПРОГРАММАМ И НЕПРОГРАММНЫМ НАПРАВЛЕНИЯМ ДЕЯТЕЛЬНОСТИ), ГРУППАМ И ПОДГРУППАМ ВИДОВ РАСХОДОВ, РАЗДЕЛАМ И ПОДРАЗДЕЛАМ КЛАССИФИКАЦИИ РАСХОДОВ БЮДЖЕТОВ НА 2026 ГОД И НА ПЛАНОВЫЙ ПЕРИОД 2027 И 2028 ГОДОВ
I3: (тыс. рублей)
A4: Наименование | B4: Цср | F4: ВР | G4: Рз | H4: Прз | I4: Адм | J4: Сумма
J5: 2026год | K5: 2027 год | L5: 2028 год
A6: 1 | B6: 2 | C6: 3 | D6: 4 | E6: 5 | F6: 6 | G6: 7 | H6: 8 | I6: 9 | J6: 10 | K6: 11 | L6: 12
A7: ВСЕГО | J7: =J8+J16+J29+J43+J55+J91+J99+J111+J49+J37+J105 -> 2506.55 | K7: =K8+K16+K29+K43+K55+K91+K99+K111+K49+K37 -> 2718.3 | L7: =L8+L16+L29+L43+L55+L91+L99+L111+L49+L37+L105 -> 2954.5
A8: Муниципальная программа "Развитие дорожного хозяйства на территории Кученяевского сельского поселения Ардатовского муниципального района Республики Мордовия на 2020-2024 годы" | B8: 89 | C8: 1 | J8: =J9 -> 518.1 | K8: =K9 -> 533.6 | L8: =L9 -> 549.1
A9: Основное мероприятие "Проведение ремонта автомобильных дорог общего пользования местного значения в границах Кученяевского сельскогопоселения" | B9: 89 | C9: 1 | D9: 00 | J9: =SUM(J10) -> 518.1 | K9: =SUM(K10) -> 533.6 | L9: =SUM(L10) -> 549.1
A10: Ремонт автомобильных дорог общего пользования местного значения и искусственных сооружений на них | B10: 89 | C10: 1 | D10: 00 | E10: 44102 | J10: =SUM(J11) -> 518.1 | K10: =SUM(K11) -> 533.6 | L10: =SUM(L11) -> 549.1
A11: Закупка товаров, работ и услуг для обеспечения государственных (муниципальных) нужд | B11: 89 | C11: 1 | D11: 00 | E11: 44102 | F11: 200 | J11: =SUM(J12) -> 518.1 | K11: =SUM(K12) -> 533.6 | L11: =SUM(L12) -> 549.1
A12: Иные закупки товаров, работ и услуг для обеспечения государственных (муниципальных) нужд | B12: 89 | C12: 1 | D12: 00 | E12: 44102 | F12: 240 | J12: =SUM(J13) -> 518.1 | K12: =SUM(K13) -> 533.6 | L12: =SUM(L13) -> 549.1
A13: Национальная экономика | B13: 89 | C13: 1 | D13: 00 | E13: 44102 | F13: 240 | G13: 04 | J13: =SUM(J14) -> 518.1 | K13: =SUM(K14) -> 533.6 | L13: =SUM(L14) -> 549.1
A14: Дорожное хозяйство | B14: 89 | C14: 1 | D14: 00 | E14: 44102 | F14: 240 | G14: 04 | H14: 09 | J14: =SUM(J15) -> 518.1 | K14: =SUM(K15) -> 533.6 | L14: =SUM(L15) -> 549.1
A15: Администрация Кученяевского сельского поселения Ардатовского муниципального района | B15: 89 | C15: 1 | D15: 00 | E15: 42500 | F15: 240 | G15: 04 | H15: 09 | I15: 919 | J15: =SUM('Приложение 3'!I62) -> 518.1 | K15: =SUM('Приложение 3'!J62) -> 533.6 | L15: =SUM('Приложение 3'!K62) -> 549.1
A16: Муниципальная программа «Осуществление первичного воинского учета в Кученяевском сельском поселении Ардатовского муниципального района Республики Мордовия на 2020-2024 годы» | B16: 17 | C16: 3 | J16: =SUM(J17) -> 151.8 | K16: =SUM(K17) -> 159.8 | L16: =SUM(L17) -> 175.3
A17: Основное мероприятие «Обеспечение деятельности военно-учетного стола» | B17: 17 | C17: 3 | D17: 02 | J17: =SUM(J18) -> 151.8 | K17: =SUM(K18) -> 159.8 | L17: =SUM(L18) -> 175.3
A18: Осуществление первичного воинского учета на территориях, где отсутствуют военные комиссариаты | B18: 17 | C18: 3 | D18: 02 | E18: 51180 | J18: =SUM(J19+J24) -> 151.8 | K18: =SUM(K19+K24) -> 159.8 | L18: =SUM(L19+L24) -> 175.3
A19: Расходы на выплаты персоналу в целях обеспечения выполнения функций государственными (муниципальными) органами, казенными учреждениями, органами управления государственными внебюджетными фондами | B19: 17 | C19: 3 | D19: 02 | E19: 51180 | F19: 100 | J19: =SUM(J20) -> 140.2 | K19: =SUM(K20) -> 145.7 | L19: =SUM(L20) -> 159.8
A20: Расходы на выплаты персоналу государственных (муниципальных) органов | B20: 17 | C20: 3 | D20: 02 | E20: 51180 | F20: 120 | J20: =SUM(J21) -> 140.2 | K20: =SUM(K21) -> 145.7 | L20: =SUM(L21) -> 159.8
A21: Национальная оборона | B21: 17 | C21: 3 | D21: 02 | E21: 51180 | F21: 120 | G21: 02 | J21: =SUM(J22) -> 140.2 | K21: =SUM(K22) -> 145.7 | L21: =SUM(L22) -> 159.8
A22: Мобилизационная и вневойсковая подготовка | B22: 17 | C22: 3 | D22: 02 | E22: 51180 | F22: 120 | G22: 02 | H22: 03 | J22: =SUM(J23) -> 140.2 | K22: =SUM(K23) -> 145.7 | L22: =SUM(L23) -> 159.8
A23: Администрация Кученяевского сельского поселения Ардатовского муниципального района | B23: 17 | C23: 3 | D23: 02 | E23: 51180 | F23: 120 | G23: 02 | H23: 03 | I23: 919 | J23: =SUM('Приложение 3'!I46) -> 140.2 | K23: =SUM('Приложение 3'!J46) -> 145.7 | L23: =SUM('Приложение 3'!K46) -> 159.8
A24: Закупка товаров, работ и услуг для обеспечения государственных (муниципальных) нужд | B24: 17 | C24: 3 | D24: 02 | E24: 51180 | F24: 200 | J24: =SUM(J25) -> 11.6 | K24: =SUM(K25) -> 14.1 | L24: =SUM(L25) -> 15.5
A25: Иные закупки товаров, работ и услуг для обеспечения государственных (муниципальных) нужд | B25: 17 | C25: 3 | D25: 02 | E25: 51180 | F25: 240 | J25: =SUM(J26) -> 11.6 | K25: =SUM(K26) -> 14.1 | L25: =SUM(L26) -> 15.5
A26: Национальная оборона | B26: 17 | C26: 3 | D26: 02 | E26: 51180 | F26: 240 | G26: 02 | J26: =SUM(J27) -> 11.6 | K26: =SUM(K27) -> 14.1 | L26: =SUM(L27) -> 15.5
A27: Мобилизационная и вневойсковая подготовка | B27: 17 | C27: 3 | D27: 02 | E27: 51180 | F27: 240 | G27: 02 | H27: 03 | J27: =SUM(J28) -> 11.6 | K27: =SUM(K28) -> 14.1 | L27: =SUM(L28) -> 15.5
A28: Администрация Кученяевского сельского поселения Ардатовского муниципального района | B28: 17 | C28: 3 | D28: 02 | E28: 51180 | F28: 240 | G28: 02 | H28: 03 | I28: 919 | J28: =SUM('Приложение 3'!I48) -> 11.6 | K28: =SUM('Приложение 3'!J48) -> 14.1 | L28: =SUM('Приложение 3'!K48) -> 15.5
A29: Муниципальная программа "Профилактика правонарушений на территории Кученяевского сельского поселения Ардатовского муниципального района республики Мордовия на 2020-2024гг." | B29: 19 | C29: 2 | J29: =SUM(J30) -> 0.8 | K29: =SUM(K30) -> 0.9 | L29: =SUM(L30) -> 0.9
A30: Основное мероприятие «Обеспечение деятельности должностных лиц уполномоченных составлять протоколы об административных правонарушениях, предусмотренных Законом Республики Мордовия от 15 июня 2015 года № 38-З "Об административной ответственности на территории Республики Мордовия" | B30: 19 | C30: 2 | D30: 03 | J30: =SUM(J31) -> 0.8 | K30: =SUM(K31) -> 0.9 | L30: =SUM(L31) -> 0.9
A31: Осуществление государственных полномочий Республики Мордовия по определению перечня должностных лиц, уполномоченных составлять протоколы об административных правонарушениях, предусмотренных Законом Республики Мордовия от 15 июня 2015 года № 38-З "Об административной ответственности на территории Республики Мордовия" | B31: 19 | C31: 2 | D31: 03 | E31: 77150 | J31: =SUM(J32) -> 0.8 | K31: =SUM(K32) -> 0.9 | L31: =SUM(L32) -> 0.9
A32: Закупка товаров, работ и услуг для обеспечения государственных (муниципальных) нужд | B32: 19 | C32: 2 | D32: 03 | E32: 77150 | F32: 200 | J32: =SUM(J33) -> 0.8 | K32: =SUM(K33) -> 0.9 | L32: =SUM(L33) -> 0.9
A33: Иные закупки товаров, работ и услуг для обеспечения государственных (муниципальных) нужд | B33: 19 | C33: 2 | D33: 03 | E33: 77150 | F33: 240 | J33: =SUM(J34) -> 0.8 | K33: =SUM(K34) -> 0.9 | L33: =SUM(L34) -> 0.9
A34: Общегосударственные вопросы | B34: 19 | C34: 2 | D34: 03 | E34: 77150 | F34: 240 | G34: 01 | J34: =SUM(J35) -> 0.8 | K34: =SUM(K35) -> 0.9 | L34: =SUM(L35) -> 0.9
A35: Функционирование Правительства Российской Федерации, высших исполнительных органов государственной власти субъектов Российской Федерации, местных администраций | B35: 19 | C35: 2 | D35: 03 | E35: 77150 | F35: 240 | G35: 01 | H35: 04 | J35: =SUM(J36) -> 0.8 | K35: =SUM(K36) -> 0.9 | L35: =SUM(L36) -> 0.9
A36: Администрация Кученяевского сельского поселения Ардатовского муниципального района | B36: 19 | C36: 2 | D36: 03 | E36: 77150 | F36: 240 | G36: 01 | H36: 04 | I36: 919 | J36: =SUM('Приложение 3'!I14) -> 0.8 | K36: =SUM('Приложение 3'!J14) -> 0.9 | L36: =SUM('Приложение 3'!K14) -> 0.9
A37: Прочие мероприятия по благоустройству | B37: 89 | C37: 1 | D37: 00 | E37: 43040 | J37: =SUM(J38) -> 342.3 | K37: =SUM(K38) -> 356 | L37: =SUM(L38) -> 370.3
A38: Закупка товаров, работ и услуг для обеспечения государственных (муниципальных) нужд | B38: 22 | C38: 2 | D38: 04 | E38: L5760 | F38: 200 | J38: =SUM(J39) -> 342.3 | K38: =SUM(K39) -> 356 | L38: =SUM(L39) -> 370.3
A39: Иные закупки товаров, работ и услуг для обеспечения государственных (муниципальных) нужд | B39: 22 | C39: 2 | D39: 04 | E39: L5760 | F39: 240 | J39: =SUM(J40) -> 342.3 | K39: =SUM(K40) -> 356 | L39: =SUM(L40) -> 370.3
A40: Жилищно - коммунальное хозяйство | B40: 22 | C40: 2 | D40: 04 | E40: L5760 | F40: 240 | G40: 05 | J40: =SUM(J41) -> 342.3 | K40: =SUM(K41) -> 356 | L40: =SUM(L41) -> 370.3
...

Sheet Приложение 5
C1: Приложение5 к решению Совета депутатов Кученяевского сельского поселения Ардатовского муниципального района Республики Мордовия «О бюджете Кученяевского сельского поселения Ардатовского муниципального района Республики Мордовия на 2026 год и на плановый период 2027 и 2028 годов» от г. №
A7: ИСТОЧНИКИ ВНУТРЕННЕГО ФИНАНСИРОВАНИЯ ДЕФИЦИТА БЮДЖЕТА КУЧЕНЯЕВСКОГО СЕЛЬСКОГО ПОСЕЛЕНИЯ АРДАТОВСКОГО МУНИЦИПАЛЬНОГО РАЙОНА РЕСПУБЛИКИ МОРДОВИЯ НА 2026 ГОД И НА ПЛАНОВЫЙ ПЕРИОД 2027 и 2028 ГОДОВ
A9: Код | B9: Наименование кода группы, подгруппы, статьи, вида источника финансирования дефицитов бюджетов, кода классификации операций сектора государственного управления, относящихся к источникам финансирования дефицитов бюджетов Российской Федерации | C9: Сумма (тыс. руб.)
C10: 2026год | D10: 2027 год | E10: 2028 год
A11: 1 | B11: 2 | C11: 3 | D11: 4 | E11: 5
A12: 000 01 00 00 00 00 0000 000 | B12: ИСТОЧНИКИ ВНУТРЕННЕГО ФИНАНСИРОВАНИЯ ДЕФИЦИТОВ БЮДЖЕТОВ
A13: 000 01 02 00 00 00 0000 000 | B13: Кредиты кредитных организаций в валюте Российской Федерации
A14: 000 01 02 00 00 00 0000 700 | B14: Привлечение кредитов от кредитных организаций в валюте Российской Федерации
A15: 000 01 02 00 00 13 0000 710 | B15: Привлечение сельскими поселениями кредитов от кредитных организаций в валюте Российской Федерации
A16: 000 01 03 00 00 00 0000 000 | B16: Бюджетные кредиты из других бюджетов бюджетной системы Российской Федерации | C16: =C17 -> 109.3 | D16: =D17 -> 136.6 | E16: =E17 -> 170.7
A17: 000 01 03 01 00 00 0000 800 | B17: Погашение бюджетных кредитов, полученных из других бюджетов бюджетной системы Российской Федерации в валюте Российской Федерации | C17: 109.3 | D17: ='Приложение 4'!K117 -> 136.6 | E17: ='Приложение 4'!L117 -> 170.7
A18: 000 01 03 01 00 13 0000 810 | B18: Погашение бюджетами сельских поселений кредитов из других бюджетов бюджетной системы Российской Федерации в валюте Российской Федерации | C18: =C17 -> 109.3 | D18: =D17 -> 136.6 | E18: =E17 -> 170.7
A19: 000 01 05 00 00 00 0000 000 | B19: Изменение остатков средств на счетах по учету средств бюджета
A20: 000 01 05 00 00 00 0000 500 | B20: Увеличение остатков средств бюджетов | C20: =C21 -> -2615.85 | D20: =D21 -> -2854.9 | E20: =E21 -> -3125.2
A21: 000 01 05 02 00 00 0000 500 | B21: Увеличение прочих остатков средств бюджетов | C21: =C22 -> -2615.85 | D21: =D22 -> -2854.9 | E21: =E22 -> -3125.2
A22: 000 01 05 02 01 00 0000 510 | B22: Увеличение прочих остатков денежных средств бюджетов | C22: =C23 -> -2615.85 | D22: =D23 -> -2854.9 | E22: =E23 -> -3125.2
A23: 000 01 05 02 01 13 0000 510 | B23: Увеличение прочих остатков денежных средств бюджетов городских поселений | C23: =-(C24+C28) -> -2615.85 | D23: =-(D24+D28) -> -2854.9 | E23: =-(E24+E28) -> -3125.2
A24: 000 01 05 00 00 00 0000 600 | B24: Уменьшение остатков средств бюджетов | C24: =C25 -> 2506.55 | D24: =D25 -> 2718.3 | E24: =E25 -> 2954.5
A25: 000 01 05 02 00 00 0000 600 | B25: Уменьшение прочих остатков средств бюджетов | C25: =C26 -> 2506.55 | D25: =D26 -> 2718.3 | E25: =E26 -> 2954.5
A26: 000 01 05 02 01 00 0000 610 | B26: Уменьшение прочих остатков денежных средств бюджетов | C26: =C27 -> 2506.55 | D26: =D27 -> 2718.3 | E26: =E27 -> 2954.5
A27: 000 01 05 02 01 13 0000 610 | B27: Уменьшение прочих остатков денежных средств бюджетов городских поселений | C27: ='Приложение 4'!J7 -> 2506.55 | D27: ='Приложение 4'!K7 -> 2718.3 | E27: ='Приложение 4'!L7 -> 2954.5
A28: 000 01 06 05 00 00 0000 000 | B28: Итого источников внутреннего финансирования дефицита бюджета городского поселения | C28: =SUM(C29:C30) -> 109.3 | D28: =SUM(D29:D30) -> 136.6 | E28: =E30 -> 170.7
A29: 000 01 00 00 00 00 0000 000 | B29: Привлечение средств | C29: =C13 -> 0 | D29: =D13 -> 0 | E29: 0
B30: Погашение основной суммы задолженности | C30: =C17 -> 109.3 | D30: =D17 -> 136.6 | E30: =E17 -> 170.7

Sheet Приложение6
F1: Приложение 6 к решению Совета депутатов Кученяевского сельского поселения Ардатовского муниципального района Республики Мордовия «О бюджете Кученяевского сельского поселения Ардатовского муниципального района Республики Мордовия на 2026 год и на плановый период 2027 и 2028 годов» от г. №
A8: ПРОГРАММА МУНИЦИПАЛЬНЫХ ВНУТРЕННИХ ЗАИМСТВОВАНИЙ КУЧЕНЯЕВСКОГО СЕЛЬСКОГО ПОСЕЛЕНИЯ АРДАТОВСКОГО МУНИЦИПАЛЬНОГО РАЙОНА РЕСПУБЛИКИ МОРДОВИЯ НА 2026 ГОД И НА ПЛАНОВЫЙ ПЕРИОД 2027 И 2028 ГОДОВ
A10: № п/п | B10: Виды заимствований | F10: Сумма (тыс. рублей)
F11: 2026год | G11: 2027год | I11: 2028 год
A12: I | B12: Привлечение средств для финансирования дефицита бюджета и погашения долговых обязательств
A13: 1 | B13: Получение кредитов от российских кредитных организаций
A14: 2 | B14: Получение бюджетных кредитов из других бюджетов бюджетной системы Российской Федерации
B15: ИТОГО
A16: II | B16: Направления расходования привлеченных средств | F16: =F12 -> 0 | G16: =G12 -> 0 | I16: =I12 -> 0
A17: 1 | B17: Погашение бюджетных кредитов | F17: =-'Приложение 5'!C30 -> -109.3 | G17: =-'Приложение 5'!D30 -> -136.6 | I17: =-'Приложение 5'!E30 -> -170.7
B18: в том числе:
A19: 1.1 | B19: Погашение бюджетного кредита,предоставленного из районного бюджета | F19: =F17 -> -109.3 | G19: =G17 -> -136.6 | I19: =I17 -> -170.7
A20: 2 | B20: Погашение прочих заимствований
A21: 3 | B21: Финансирование дефицита бюджета | F21: =F16-F17 -> 109.3 | G21: =G16-G17 -> 136.6 | I21: =I16-I17 -> 170.7
B22: ВСЕГО | F22: =F12 -> 0 | G22: =G12 -> 0 | I22: =I12 -> 0
